View In:
ArcGIS JavaScript
GISTDA Portal map viewer
ArcGIS Earth
Service Description: แบบจำลองระดับสูงเชิงเลข (Digital Elevation Model : DEM) จ.น่าน
Name: GMFLF/DEM_NAN
Description: แบบจำลองระดับสูงเชิงเลข (Digital Elevation Model : DEM) จ.น่าน
Single Fused Map Cache: false
Extent:
XMin: 1.1167664082623534E7
YMin: 2037060.8495145224
XMax: 1.1286404872803025E7
YMax: 2231121.8832596056
Spatial Reference: 102100
(3857)
Initial Extent:
XMin: 1.1167664082623534E7
YMin: 2037060.8495145224
XMax: 1.1286404872803025E7
YMax: 2231121.8832596056
Spatial Reference: 102100
(3857)
Full Extent:
XMin: 1.1167664082623534E7
YMin: 2037060.8495145224
XMax: 1.1286404872803025E7
YMax: 2231121.8832596056
Spatial Reference: 102100
(3857)
Pixel Size X: 927.6624232772764
Pixel Size Y: 927.662423277277
Band Count: 1
Pixel Type: S16
RasterFunction Infos: {"rasterFunctionInfos": [{
"help": "",
"name": "None",
"description": ""
}]}
Mensuration Capabilities: Basic
Inspection Capabilities:
Has Histograms: true
Has Colormap: false
Has Multi Dimensions : false
Rendering Rule:
Min Scale: 591657527.591555
Max Scale: 1128.4971760000001
Copyright Text: GISTDA
Service Data Type: esriImageServiceDataTypeGeneric
Min Values: 144
Max Values: 1938
Mean Values: 592.15761086696
Standard Deviation Values: 317.51575620669001
Object ID Field:
Fields:
None
Default Mosaic Method: Center
Allowed Mosaic Methods:
SortField:
SortValue: N/A
Mosaic Operator: First
Default Compression Quality: 75
Default Resampling Method: Bilinear
Max Record Count: null
Max Image Height: 4100
Max Image Width: 15000
Max Download Image Count: null
Max Mosaic Image Count: null
Allow Raster Function: true
Allow Copy: true
Allow Analysis: true
Allow Compute TiePoints: false
Supports Statistics: false
Supports Advanced Queries: false
Use StandardizedQueries: false
Raster Type Infos:
Name: Raster Dataset
Description: Supports all ArcGIS Raster Datasets
Help:
Has Raster Attribute Table: true
Edit Fields Info: N/A
Ownership Based AccessControl For Rasters: N/A
Child Resources:
Info
Raster Attribute Table
Histograms
Statistics
Key Properties
Legend
Raster Function Infos
Supported Operations:
Export Image
Identify
Measure
Compute Histograms
Compute Statistics Histograms
Get Samples
Compute Class Statistics
Query Boundary
Compute Pixel Location
Compute Angles
Validate
Project