{
 "extent": {
  "ymin": 2037060.8495145224,
  "xmin": 11167664.082623534,
  "ymax": 2231121.8832596056,
  "xmax": 11286404.872803025,
  "spatialReference": {
   "latestWkid": 3857,
   "wkid": 102100
  }
 },
 "blockWidth": 128,
 "mosaicOperator": "First",
 "serviceSourceType": "esriImageServiceSourceTypeDataset",
 "hasMultidimensions": false,
 "maxImageWidth": 15000,
 "meanValues": [
  592.15761086696
 ],
 "hasColormap": false,
 "compressionType": "None",
 "defaultCompressionQuality": 75,
 "maxValues": [
  1938
 ],
 "hasHistograms": true,
 "datasetFormat": "TIFF",
 "maxImageHeight": 4100,
 "sortField": "",
 "bandNames": [
  "Band_1"
 ],
 "spatialReference": {
  "latestWkid": 3857,
  "wkid": 102100
 },
 "fullExtent": {
  "ymin": 2037060.8495145224,
  "xmin": 11167664.082623534,
  "ymax": 2231121.8832596056,
  "xmax": 11286404.872803025,
  "spatialReference": {
   "latestWkid": 3857,
   "wkid": 102100
  }
 },
 "bandCount": 1,
 "rasterFunctionInfos": [
  {
   "help": "",
   "name": "None",
   "description": ""
  }
 ],
 "supportsStatistics": false,
 "sortableFields": "",
 "minValues": [
  144
 ],
 "allowRasterFunction": true,
 "allowComputeTiePoints": false,
 "serviceDataType": "esriImageServiceDataTypeGeneric",
 "supportsAdvancedQueries": false,
 "currentVersion": 12.1,
 "sortValue": null,
 "objectIdField": "",
 "blockHeight": 128,
 "initialExtent": {
  "ymin": 2037060.8495145224,
  "xmin": 11167664.082623534,
  "ymax": 2231121.8832596056,
  "xmax": 11286404.872803025,
  "spatialReference": {
   "latestWkid": 3857,
   "wkid": 102100
  }
 },
 "pixelSizeX": 927.66242327727639,
 "pixelSizeY": 927.66242327727696,
 "defaultMosaicMethod": "Center",
 "name": "GMFLF/DEM_NAN",
 "allowedMosaicMethods": "",
 "fields": [],
 "allowAnalysis": true,
 "hasRasterAttributeTable": true,
 "useStandardizedQueries": false,
 "description": "แบบจำลองระดับสูงเชิงเลข (Digital Elevation Model : DEM) จ.น่าน",
 "pixelType": "S16",
 "meanPixelSize": 927.66242327727673,
 "exportTilesAllowed": false,
 "editFieldsInfo": null,
 "rasterTypeInfos": [
  {
   "help": "",
   "name": "Raster Dataset",
   "description": "Supports all ArcGIS Raster Datasets"
  }
 ],
 "defaultResamplingMethod": "Bilinear",
 "itemAccess": false,
 "minScale": 591657527.591555,
 "serviceProperties": "Center<\/MosaicMethod>First<\/MosaicOperator>true<\/SortAscending><\/LockImageID><\/TileOrderField>0<\/TileOrderBase>0.000000<\/AvgImageSpacingX>0.000000<\/AvgImageSpacingY>0.0<\/ViewPointX>0.0<\/ViewPointY>0.0<\/ViewPointDefShiftX>0.0<\/ViewPointDefShiftY>None<\/CompressionMethod>75<\/CompressionQuality>0.010000<\/CompressionTolerance>Bilinear<\/SamplingMethod><\/ImageServiceProperties><\/ImageServer>",
 "advancedQueryCapabilities": {
  "supportsStatistics": false,
  "supportsSqlExpression": false,
  "supportsOrderBy": false,
  "useStandardizedQueries": false,
  "supportsPagination": false,
  "supportsDistinct": false
 },
 "serviceItemId": "4a7ffa87d7b643db8799eb171f61f27f",
 "capabilities": "Mensuration,Image,Metadata",
 "maxScale": 1128.4971760000001,
 "stdvValues": [
  317.51575620669001
 ],
 "allowedFields": "",
 "minPixelSize": 0,
 "noDataValues": [
  32767
 ],
 "sortAscending": true,
 "inspectionCapabilities": "",
 "maxPixelSize": 0,
 "noDataValue": 32767,
 "allowedCompressions": "None,JPEG,LZ77,LERC",
 "uncompressedSize": 53086,
 "serviceDescription": "แบบจำลองระดับสูงเชิงเลข (Digital Elevation Model : DEM) จ.น่าน",
 "allowCopy": true,
 "copyrightText": "GISTDA",
 "mensurationCapabilities": "Basic",
 "ownershipBasedAccessControlForRasters": null
}
