View In:
ArcGIS JavaScript
ArcGIS Online Map Viewer
ArcGIS Earth
Service Description: Microclimate/PM25_Current_tif
Name: Microclimate/PM25_Current_tif
Description:
Single Fused Map Cache: false
Extent:
XMin: 97.34166666641443
YMin: 5.616666666742752
XMax: 105.63333333307355
YMax: 20.46666666675457
Spatial Reference: 4326
(4326)
Initial Extent:
XMin: 97.34166666641443
YMin: 5.616666666742752
XMax: 105.63333333307355
YMax: 20.46666666675457
Spatial Reference: 4326
(4326)
Full Extent:
XMin: 97.34166666641443
YMin: 5.616666666742752
XMax: 105.63333333307355
YMax: 20.46666666675457
Spatial Reference: 4326
(4326)
Pixel Size X: 0.008333333333325754
Pixel Size Y: 0.008333333333339965
Band Count: 1
Pixel Type: F32
RasterFunction Infos: {"rasterFunctionInfos": [{
"help": "",
"name": "None",
"description": ""
}]}
Mensuration Capabilities: Basic
Inspection Capabilities:
Has Histograms: true
Has Colormap: false
Has Multi Dimensions : false
Rendering Rule:
Min Scale: 0
Max Scale: 0
Copyright Text:
Service Data Type: esriImageServiceDataTypeGeneric
Min Values: 16.193954467773001
Max Values: 30.845623016356999
Mean Values: 22.695476303938001
Standard Deviation Values: 3.1848906336192999
Object ID Field:
Fields:
None
Default Mosaic Method: Center
Allowed Mosaic Methods:
SortField:
SortValue: N/A
Mosaic Operator: First
Default Compression Quality: 75
Default Resampling Method: Bilinear
Max Record Count: null
Max Image Height: 4100
Max Image Width: 15000
Max Download Image Count: null
Max Mosaic Image Count: null
Allow Raster Function: true
Allow Copy: true
Allow Analysis: true
Allow Compute TiePoints: false
Supports Statistics: false
Supports Advanced Queries: false
Use StandardizedQueries: false
Raster Type Infos:
Name: Raster Dataset
Description: Supports all ArcGIS Raster Datasets
Help:
Has Raster Attribute Table: false
Edit Fields Info: N/A
Ownership Based AccessControl For Rasters: N/A
Child Resources:
Info
Histograms
Statistics
Key Properties
Legend
Raster Function Infos
Supported Operations:
Export Image
Identify
Measure
Compute Histograms
Compute Statistics Histograms
Get Samples
Compute Class Statistics
Query Boundary
Compute Pixel Location
Compute Angles
Validate
Project