{
 "documentInfo": {
  "Category": "",
  "Keywords": "Rice_20170415,rice",
  "Version": "10.1",
  "Comments": "",
  "AntialiasingMode": "Fastest",
  "Title": "",
  "Author": "",
  "TextAntialiasingMode": "Force",
  "Subject": ""
 },
 "maxImageWidth": 4096,
 "wmtsScaleFactor": 0.00028000000000003521,
 "maxRecordCount": 1000,
 "tileInfo": {
  "lods": [
   {
    "level": 0,
    "scale": 591657527.591555,
    "resolution": 156543.03392800014
   },
   {
    "level": 1,
    "scale": 295828763.79577702,
    "resolution": 78271.516963999937
   },
   {
    "level": 2,
    "scale": 147914381.89788899,
    "resolution": 39135.758482000092
   },
   {
    "level": 3,
    "scale": 73957190.948944002,
    "resolution": 19567.879240999919
   },
   {
    "level": 4,
    "scale": 36978595.474472001,
    "resolution": 9783.9396204999593
   },
   {
    "level": 5,
    "scale": 18489297.737236001,
    "resolution": 4891.9698102499797
   },
   {
    "level": 6,
    "scale": 9244648.8686180003,
    "resolution": 2445.9849051249898
   },
   {
    "level": 7,
    "scale": 4622324.4343090001,
    "resolution": 1222.9924525624949
   },
   {
    "level": 8,
    "scale": 2311162.2171550002,
    "resolution": 611.49622628137968
   },
   {
    "level": 9,
    "scale": 1155581.108577,
    "resolution": 305.74811314055756
   },
   {
    "level": 10,
    "scale": 577790.55428899999,
    "resolution": 152.87405657041106
   },
   {
    "level": 11,
    "scale": 288895.27714399999,
    "resolution": 76.437028285073239
   },
   {
    "level": 12,
    "scale": 144447.638572,
    "resolution": 38.21851414253662
   },
   {
    "level": 13,
    "scale": 72223.819285999998,
    "resolution": 19.10925707126831
   },
   {
    "level": 14,
    "scale": 36111.909642999999,
    "resolution": 9.5546285356341549
   },
   {
    "level": 15,
    "scale": 18055.954822,
    "resolution": 4.7773142679493699
   },
   {
    "level": 16,
    "scale": 9027.9774109999998,
    "resolution": 2.3886571339746849
   },
   {
    "level": 17,
    "scale": 4513.9887049999998,
    "resolution": 1.1943285668550503
   },
   {
    "level": 18,
    "scale": 2256.994353,
    "resolution": 0.59716428355981721
   },
   {
    "level": 19,
    "scale": 1128.4971760000001,
    "resolution": 0.29858214164761665
   }
  ],
  "origin": {
   "x": -20037508.342787001,
   "y": 20037508.342787001
  },
  "format": "PNG32",
  "compressionQuality": 0,
  "rows": 256,
  "dpi": 96,
  "spatialReference": {
   "falseM": -100000,
   "xyTolerance": 0.001,
   "mUnits": 10000,
   "zUnits": 10000,
   "latestWkid": 3857,
   "zTolerance": 0.001,
   "wkid": 102100,
   "xyUnits": 148923141.928385377,
   "mTolerance": 0.001,
   "falseX": -20037700,
   "falseY": -30241100,
   "falseZ": -100000
  },
  "cols": 256
 },
 "description": "",
 "datesInUnknownTimezone": false,
 "supportsQueryDomains": true,
 "units": "esriMeters",
 "maxSelectionCount": 2000,
 "supportedImageFormatTypes": "PNG32,PNG24,PNG,JPG,DIB,TIFF,EMF,PS,PDF,GIF,SVG,SVGZ,BMP",
 "supportsClipping": true,
 "exportTilesAllowed": false,
 "maxImageHeight": 4096,
 "tables": [],
 "hasVersionedData": false,
 "supportsDatumTransformation": true,
 "cimVersion": "3.7.0",
 "supportsQueryDataElements": true,
 "layers": [],
 "mapName": "Layers",
 "minScale": 591657527.591555,
 "archivingInfo": {
  "supportsHistoricMoment": false
 },
 "spatialReference": {
  "falseM": -100000,
  "xyTolerance": 0.001,
  "mUnits": 10000,
  "zUnits": 10000,
  "latestWkid": 3857,
  "zTolerance": 0.001,
  "wkid": 102100,
  "xyUnits": 148923141.928385377,
  "mTolerance": 0.001,
  "falseX": -20037700,
  "falseY": -30241100,
  "falseZ": -100000
 },
 "tileImageInfo": {
  "bandCount": 1,
  "lercError": 0,
  "format": "PNG32",
  "compressionQuality": 0
 },
 "fullExtent": {
  "ymin": "NaN",
  "xmin": "NaN",
  "ymax": "NaN",
  "xmax": "NaN",
  "spatialReference": {
   "falseM": -100000,
   "xyTolerance": 0.001,
   "mUnits": 10000,
   "zUnits": 10000,
   "latestWkid": 3857,
   "zTolerance": 0.001,
   "wkid": 102100,
   "xyUnits": 148923141.928385377,
   "mTolerance": 0.001,
   "falseX": -20037700,
   "falseY": -30241100,
   "falseZ": -100000
  }
 },
 "supportedExtensions": "",
 "serviceItemId": "95cb7ee142834243ae14ce0c1b5d7337",
 "capabilities": "Map,Query,Data",
 "supportsDynamicLayers": false,
 "maxScale": 18055.954822,
 "singleFusedMapCache": true,
 "currentVersion": 12.1,
 "storageInfo": {
  "storageFormat": "esriMapCacheStorageModeCompactV2",
  "packetSize": 128
 },
 "hasBranchVersionedData": false,
 "mapUnits": {
  "uwkid": 9001
 },
 "referenceScale": 0,
 "supportsSpatialFilter": true,
 "supportedQueryFormats": "JSON, geoJSON, PBF",
 "initialExtent": {
  "ymin": 1106603.2789601537,
  "xmin": 10177120.370679017,
  "ymax": 2412693.5789982397,
  "xmax": 12431294.304292006,
  "spatialReference": {
   "falseM": -100000,
   "xyTolerance": 0.001,
   "mUnits": 10000,
   "zUnits": 10000,
   "latestWkid": 3857,
   "zTolerance": 0.001,
   "wkid": 102100,
   "xyUnits": 148923141.928385377,
   "mTolerance": 0.001,
   "falseX": -20037700,
   "falseY": -30241100,
   "falseZ": -100000
  }
 },
 "serviceDescription": "พื้นที่ปลูกข้าวจากภาพถ่ายดาวเทียม วันที่ 1-15 เมษายน 2560",
 "copyrightText": "GISTDA",
 "supportsTimeRelation": true
}
